BEGIN:VCALENDAR
VERSION:2.0
PRODID:-//ChamberMaster//Event Calendar 2.0//EN
METHOD:PUBLISH
X-PUBLISHED-TTL:P3D
REFRESH-INTERVAL:P3D
CALSCALE:GREGORIAN
BEGIN:VEVENT
DTSTART:20250328T140000Z
DTEND:20250328T150000Z
X-MICROSOFT-CDO-ALLDAYEVENT:FALSE
SUMMARY:Charitable Foundation Committee Meeting
DESCRIPTION:The Charitable Foundation plans fundraising events to raise funds and awareness for a specific cause decided on by the Association. Meets once a month to discuss upcoming event and overall Charitable Association business.
X-ALT-DESC;FMTTYPE=text/html:The Charitable Foundation plans fundraising events to raise funds and awareness for a specific cause decided on by the Association. Meets once a month to discuss upcoming event and overall Charitable Association business.
LOCATION:Virtual
UID:e.9551.5493
SEQUENCE:3
DTSTAMP:20260422T084306Z
URL:https://business.hbahomes.com/events/details/charitable-foundation-committee-meeting-03-14-2025-5493
END:VEVENT

END:VCALENDAR
